BEGIN:VCALENDAR
VERSION:2.0
PRODID:-//Clary Anderson Arena - ECPv6.15.20//NONSGML v1.0//EN
CALSCALE:GREGORIAN
METHOD:PUBLISH
X-ORIGINAL-URL:https://claryandersonicearena.com
X-WR-CALDESC:Events for Clary Anderson Arena
REFRESH-INTERVAL;VALUE=DURATION:PT1H
X-Robots-Tag:noindex
X-PUBLISHED-TTL:PT1H
BEGIN:VTIMEZONE
TZID:America/New_York
BEGIN:DAYLIGHT
TZOFFSETFROM:-0500
TZOFFSETTO:-0400
TZNAME:EDT
DTSTART:20250309T070000
END:DAYLIGHT
BEGIN:STANDARD
TZOFFSETFROM:-0400
TZOFFSETTO:-0500
TZNAME:EST
DTSTART:20251102T060000
END:STANDARD
BEGIN:DAYLIGHT
TZOFFSETFROM:-0500
TZOFFSETTO:-0400
TZNAME:EDT
DTSTART:20260308T070000
END:DAYLIGHT
BEGIN:STANDARD
TZOFFSETFROM:-0400
TZOFFSETTO:-0500
TZNAME:EST
DTSTART:20261101T060000
END:STANDARD
BEGIN:DAYLIGHT
TZOFFSETFROM:-0500
TZOFFSETTO:-0400
TZNAME:EDT
DTSTART:20270314T070000
END:DAYLIGHT
BEGIN:STANDARD
TZOFFSETFROM:-0400
TZOFFSETTO:-0500
TZNAME:EST
DTSTART:20271107T060000
END:STANDARD
END:VTIMEZONE
BEGIN:VEVENT
DTSTART;VALUE=DATE:20260309
DTEND;VALUE=DATE:20260310
DTSTAMP:20260423T074423
CREATED:20251022T202256Z
LAST-MODIFIED:20260129T165854Z
UID:10000001-1773014400-1773100799@claryandersonicearena.com
SUMMARY:Spring Learn to Skate Session at Clary Anderson Arena
DESCRIPTION:Spring Learn to Skate Session: March 9 – May 30Build confidence on the ice with our Learn to Skate program at Clary Anderson Arena. Following the Learn to Skate USA curriculum\, this session introduces skaters of all ages — including adults — to the fundamentals of skating in a fun\, supportive environment. Perfect for beginners and those continuing to build strong skating skills. Multiple days & times weekly! \n👉 Learn more & register
URL:https://claryandersonicearena.com/event-detail/spring-learn-to-skate/
ATTACH;FMTTYPE=image/png:https://claryandersonicearena.com/wp-content/uploads/2026/01/Learn-to-Skate-1-scaled.png
END:VEVENT
END:VCALENDAR